BEGIN:VCALENDAR
VERSION:2.0
PRODID:-//ChamberMaster//Event Calendar 2.0//EN
METHOD:PUBLISH
X-PUBLISHED-TTL:P1H
REFRESH-INTERVAL:P1H
CALSCALE:GREGORIAN
BEGIN:VTIMEZONE
TZID:America/Denver
BEGIN:DAYLIGHT
RRULE:FREQ=YEARLY;BYMONTH=3;BYDAY=2SU
DTSTART:20070101T000000
TZOFFSETFROM:-0700
TZOFFSETTO:-0600
TZNAME:Mountain Daylight Time
END:DAYLIGHT
BEGIN:STANDARD
RRULE:FREQ=YEARLY;BYMONTH=11;BYDAY=1SU
DTSTART:20070101T000000
TZOFFSETFROM:-0600
TZOFFSETTO:-0700
TZNAME:Mountain Standard Time
END:STANDARD
END:VTIMEZONE
BEGIN:VEVENT
DTSTART;TZID=America/Denver:20260518T130000
DTEND;TZID=America/Denver:20260518T163000
X-MICROSOFT-CDO-ALLDAYEVENT:FALSE
SUMMARY:2025 Idaho CORE Zoom Class
DESCRIPTION:One of the two required courses every licensee must take every license cycle. This course is intended to keep the licensee up to date on changes in the real estate profession\; covering an array of current real estate issues. The course will look at items like current court decisions\, legislative changes\, a Commission Guideline review\, Conflict resolution techniques\, and a discussions of when and how to make referrals to other professions in a transaction.\n\nThere is a No Show Fee of $100.00
X-ALT-DESC;FMTTYPE=text/html:One of the two required courses every licensee must take every license cycle. This course is intended to keep the licensee up to date on changes in the real estate profession\; covering an array of current real estate issues. The course will look at items like current court decisions\, legislative changes\, a Commission Guideline review\, Conflict resolution techniques\, and a discussions of when and how to make referrals to other professions in a transaction.\n\nThere is a No Show Fee of $100.00
LOCATION:
UID:e.2399.1444832
SEQUENCE:3
DTSTAMP:20260421T122047Z
URL:https://members.tbor.org/events/Details/2025-idaho-core-zoom-class-1711251?sourceTypeId=Hub
END:VEVENT
END:VCALENDAR
