BEGIN:VCALENDAR
VERSION:2.0
PRODID:-//ChamberMaster//Event Calendar 2.0//EN
METHOD:PUBLISH
X-PUBLISHED-TTL:P1H
REFRESH-INTERVAL:P1H
CALSCALE:GREGORIAN
BEGIN:VTIMEZONE
TZID:America/Denver
BEGIN:DAYLIGHT
RRULE:FREQ=YEARLY;BYMONTH=3;BYDAY=2SU
DTSTART:20070101T000000
TZOFFSETFROM:-0700
TZOFFSETTO:-0600
TZNAME:Mountain Daylight Time
END:DAYLIGHT
BEGIN:STANDARD
RRULE:FREQ=YEARLY;BYMONTH=11;BYDAY=1SU
DTSTART:20070101T000000
TZOFFSETFROM:-0600
TZOFFSETTO:-0700
TZNAME:Mountain Standard Time
END:STANDARD
END:VTIMEZONE
BEGIN:VEVENT
DTSTART;TZID=America/Denver:20260519T090000
DTEND;TZID=America/Denver:20260519T120000
X-MICROSOFT-CDO-ALLDAYEVENT:FALSE
SUMMARY:From Blank to Binding: Idaho Forms Made Simple
DESCRIPTION:From Blank to Binding: Idaho Forms Made Simple is a practical and interactive course designed to help real estate professionals confidently navigate Idaho’s standard contract forms. This class breaks down each section of the forms into easy-to-understand language\, highlighting common pitfalls\, compliance essentials\, and best practices. Students will leave with a stronger understanding of how to complete forms accurately and effectively\, ensuring smoother transactions and better client representation. We will also run through updates to the forms.\n\nThere is a $100.00 No Show fee.
X-ALT-DESC;FMTTYPE=text/html:From Blank to Binding: Idaho Forms Made Simple is a practical and interactive course designed to help real estate professionals confidently navigate Idaho’s standard contract forms. This class breaks down each section of the forms into easy-to-understand language\, highlighting common pitfalls\, compliance essentials\, and best practices. Students will leave with a stronger understanding of how to complete forms accurately and effectively\, ensuring smoother transactions and better client representation. We will also run through updates to the forms.\n\nThere is a $100.00 No Show fee.
LOCATION:
UID:e.2399.1444847
SEQUENCE:3
DTSTAMP:20260421T122047Z
URL:https://members.tbor.org/events/Details/from-blank-to-binding-idaho-forms-made-simple-1711265?sourceTypeId=Hub
END:VEVENT
END:VCALENDAR
