BEGIN:VCALENDAR
VERSION:2.0
PRODID:-//ChamberMaster//Event Calendar 2.0//EN
METHOD:PUBLISH
X-PUBLISHED-TTL:P1H
REFRESH-INTERVAL:P1H
CALSCALE:GREGORIAN
BEGIN:VTIMEZONE
TZID:America/Denver
BEGIN:DAYLIGHT
RRULE:FREQ=YEARLY;BYMONTH=3;BYDAY=2SU
DTSTART:20070101T000000
TZOFFSETFROM:-0700
TZOFFSETTO:-0600
TZNAME:Mountain Daylight Time
END:DAYLIGHT
BEGIN:STANDARD
RRULE:FREQ=YEARLY;BYMONTH=11;BYDAY=1SU
DTSTART:20070101T000000
TZOFFSETFROM:-0600
TZOFFSETTO:-0700
TZNAME:Mountain Standard Time
END:STANDARD
END:VTIMEZONE
BEGIN:VEVENT
DTSTART;TZID=America/Denver:20260519T130000
DTEND;TZID=America/Denver:20260519T160000
X-MICROSOFT-CDO-ALLDAYEVENT:FALSE
SUMMARY:Idaho Class: Putting Realtor Safety First: Safety Strategies for the Modern Realtor
DESCRIPTION:Idaho Classes\nPutting Realtor Safety First: Safety Strategies for the Modern Realtor: The goal of this course is to instill safety awareness and habits as second nature\, so that real estate professionals -as well as their clients and customers- know how to avert or respond to dangerous situations and avoid harm as they practice their profession.\n\nThere is a $100.00 No Show fee.
X-ALT-DESC;FMTTYPE=text/html:Idaho Classes\nPutting Realtor Safety First: Safety Strategies for the Modern Realtor: The goal of this course is to instill safety awareness and habits as second nature\, so that real estate professionals -as well as their clients and customers- know how to avert or respond to dangerous situations and avoid harm as they practice their profession.\n\nThere is a $100.00 No Show fee.
LOCATION:
UID:e.2399.1444858
SEQUENCE:3
DTSTAMP:20260421T122045Z
URL:https://members.tbor.org/events/Details/idaho-class-putting-realtor-safety-first-safety-strategies-for-the-modern-realtor-1711276?sourceTypeId=Hub
END:VEVENT
END:VCALENDAR
