BEGIN:VCALENDAR
VERSION:2.0
PRODID:-//ChamberMaster//Event Calendar 2.0//EN
METHOD:PUBLISH
X-PUBLISHED-TTL:P1H
REFRESH-INTERVAL:P1H
CALSCALE:GREGORIAN
BEGIN:VTIMEZONE
TZID:America/Denver
BEGIN:DAYLIGHT
RRULE:FREQ=YEARLY;BYMONTH=3;BYDAY=2SU
DTSTART:20070101T000000
TZOFFSETFROM:-0700
TZOFFSETTO:-0600
TZNAME:Mountain Daylight Time
END:DAYLIGHT
BEGIN:STANDARD
RRULE:FREQ=YEARLY;BYMONTH=11;BYDAY=1SU
DTSTART:20070101T000000
TZOFFSETFROM:-0600
TZOFFSETTO:-0700
TZNAME:Mountain Standard Time
END:STANDARD
END:VTIMEZONE
BEGIN:VEVENT
DTSTART;TZID=America/Denver:20260518T083000
DTEND;TZID=America/Denver:20260518T170000
X-MICROSOFT-CDO-ALLDAYEVENT:FALSE
SUMMARY:Idaho Core 2024--Zoom with Jessica Durham
DESCRIPTION:One of the two required courses every licensee must take every license cycle. This course is intended to keep the licensee up to date on changes in the real estate profession\; covering an array of current real estate issues. The course will look at items like current court decisions\, legislative changes\, a Commission Guideline review\, Conflict resolution techniques\, and a discussions of when and how to make referrals to other professions in a transactio
X-ALT-DESC;FMTTYPE=text/html:<!DOCTYPE html><html><head><title></title></head><body aria-disabled="false"><p><span style="border: 0px\; font-style: normal\; font-variant-ligatures: normal\; font-variant-caps: normal\; font-variant-numeric: inherit\; font-variant-east-asian: inherit\; font-variant-alternates: inherit\; font-variant-position: inherit\; font-variant-emoji: inherit\; font-weight: 500\; font-stretch: inherit\; font-size: 16px\; line-height: inherit\; font-family: Aptos\, Aptos_EmbeddedFont\, Aptos_MSFontService\, Calibri\, Helvetica\, sans-serif\; font-optical-sizing: inherit\; font-size-adjust: inherit\; font-kerning: inherit\; font-feature-settings: inherit\; font-variation-settings: inherit\; font-language-override: inherit\; margin: 0px\; padding: 0px\; vertical-align: baseline\; color: rgb(0\, 0\, 0)\; letter-spacing: normal\; orphans: 2\; text-align: left\; text-indent: 0px\; text-transform: none\; widows: 2\; word-spacing: 0px\; -webkit-text-stroke-width: 0px\; white-space: normal\; text-decoration-thickness: initial\; text-decoration-style: initial\; text-decoration-color: initial\;">One of the two required courses every licensee must take every license cycle. This course is intended to keep the licensee up to date on changes in the real estate profession\; covering an array of current real estate issues. The course will look at items like current court decisions\, legislative changes\, a Commission Guideline review\, Conflict resolution techniques\, and a discussions of when and how to make referrals to other professions in a transactio</span></p></body></html>
LOCATION:
UID:e.2399.1443493
SEQUENCE:3
DTSTAMP:20260421T122046Z
URL:https://members.tbor.org/events/Details/idaho-core-2024-zoom-with-jessica-durham-1709733?sourceTypeId=Hub
END:VEVENT
END:VCALENDAR
